BEGIN:VCALENDAR
VERSION:2.0
PRODID:-//Squarespace Inc/Squarespace 6//v6//EN
BEGIN:VEVENT
UID:5d22a885363b210001b2d32b@squarespace.com
DTSTAMP:20190909T021957Z
DTSTART:20190915T050000Z
DTEND:20190915T140000Z
SUMMARY:Block Party Sundays
GEO:-27.458595;153.036505
LOCATION:Xcargo Brisbane\, 37 McLachlan Street\, Fortitude Valley\, Queensl
 and\, Australia
END:VEVENT
END:VCALENDAR
