BEGIN:VCALENDAR
VERSION:2.0
PRODID:-//Squarespace Inc/Squarespace 6//v6//EN
BEGIN:VEVENT
UID:5e436e427bcc822d981aacee@squarespace.com
DTSTAMP:20200212T031803Z
DTSTART:20200214T080000Z
DTEND:20200214T150000Z
SUMMARY:Valentines Day Traffic Light Party
END:VEVENT
END:VCALENDAR
